BEGIN:VCALENDAR
VERSION:2.0
PRODID:-//Confluence Church - ECPv6.15.19//NONSGML v1.0//EN
CALSCALE:GREGORIAN
METHOD:PUBLISH
X-WR-CALNAME:Confluence Church
X-ORIGINAL-URL:https://confluence.church
X-WR-CALDESC:Events for Confluence Church
REFRESH-INTERVAL;VALUE=DURATION:PT1H
X-Robots-Tag:noindex
X-PUBLISHED-TTL:PT1H
BEGIN:VTIMEZONE
TZID:America/Los_Angeles
BEGIN:DAYLIGHT
TZOFFSETFROM:-0800
TZOFFSETTO:-0700
TZNAME:PDT
DTSTART:20230312T100000
END:DAYLIGHT
BEGIN:STANDARD
TZOFFSETFROM:-0700
TZOFFSETTO:-0800
TZNAME:PST
DTSTART:20231105T090000
END:STANDARD
BEGIN:DAYLIGHT
TZOFFSETFROM:-0800
TZOFFSETTO:-0700
TZNAME:PDT
DTSTART:20240310T100000
END:DAYLIGHT
BEGIN:STANDARD
TZOFFSETFROM:-0700
TZOFFSETTO:-0800
TZNAME:PST
DTSTART:20241103T090000
END:STANDARD
BEGIN:DAYLIGHT
TZOFFSETFROM:-0800
TZOFFSETTO:-0700
TZNAME:PDT
DTSTART:20250309T100000
END:DAYLIGHT
BEGIN:STANDARD
TZOFFSETFROM:-0700
TZOFFSETTO:-0800
TZNAME:PST
DTSTART:20251102T090000
END:STANDARD
BEGIN:DAYLIGHT
TZOFFSETFROM:-0800
TZOFFSETTO:-0700
TZNAME:PDT
DTSTART:20260308T100000
END:DAYLIGHT
BEGIN:STANDARD
TZOFFSETFROM:-0700
TZOFFSETTO:-0800
TZNAME:PST
DTSTART:20261101T090000
END:STANDARD
BEGIN:DAYLIGHT
TZOFFSETFROM:-0800
TZOFFSETTO:-0700
TZNAME:PDT
DTSTART:20270314T100000
END:DAYLIGHT
BEGIN:STANDARD
TZOFFSETFROM:-0700
TZOFFSETTO:-0800
TZNAME:PST
DTSTART:20271107T090000
END:STANDARD
END:VTIMEZONE
BEGIN:VEVENT
DTSTART;VALUE=DATE:20260227
DTEND;VALUE=DATE:20260302
DTSTAMP:20260421T071043
CREATED:20260107T233726Z
LAST-MODIFIED:20260107T233726Z
UID:10000282-1772150400-1772409599@confluence.church
SUMMARY:Men's Retreat
DESCRIPTION:Men\, mark your calendars and get ready! You’re invited to our Men’s Retreat\, February 27–March 1\, at Del Oro Camp & Conference Center in Nevada City. This will be a powerful and refreshing weekend of seeking the Lord\, diving into God’s Word\, and building meaningful connections with other men. Come away from the noise\, be encouraged\, and grow in your faith alongside brothers in Christ. Space is limited\, so sign up now—we don’t want you to miss out! \nRegistration closes February 8! \nAccommodation options (cost includes all meals): \n\n$200: Bunkhouse Cabins (feels like summer camp when you were a kid!)\n$250: Cottages (shared common area cottage with 2-3 persons to a bedroom)\n$285: Deluxe Lodge – Double Occupancy (a room with two twin beds and private bathroom)\n$325: Deluxe Lodge – Single Occupancy (a room with one queen bed and private bathroom)\n\nRefund Policy Notice:\nIf you made a partial payment\, the final payment is due February 8. Registration fees (aside from the $50 non-refundable deposit) will be refunded for cancellations before February 8. \nDue to our financial commitment to the camp\, cancellations after February 8 still require payment of full registration fees unless another man is available/willing to take your place. Thank you for your understanding!
URL:https://confluence.church/event/mens-retreat-2026/
LOCATION:Del Oro Camp and Conference Center\, 20864 Rector Rd\, Nevada City\, CA\, 95959\, United States
CATEGORIES:Men
ATTACH;FMTTYPE=image/png:https://media.confluence.church/2026/01/30184622/Mens-Retreat-2026-web.png
END:VEVENT
BEGIN:VEVENT
DTSTART;VALUE=DATE:20251003
DTEND;VALUE=DATE:20251006
DTSTAMP:20260421T071043
CREATED:20250807T211744Z
LAST-MODIFIED:20250814T202938Z
UID:10000247-1759449600-1759708799@confluence.church
SUMMARY:Women's Retreat
DESCRIPTION:Ladies\, sign up now for our Women’s Retreat\, happening October 3–5! This will be a rich time to step away from the noise\, connect with one another\, and seek the Lord together. Our theme\, Better Than Life\, comes from Psalm 63 and invites us to delight in God’s steadfast love\, which satisfies our deepest longings. Cost ranges from $235 to $375\, depending on your lodging choice. Sign up to reserve your spot! \nRetreat Information\nSpeaker: Angie Perez\nWorship: Lynsey Kornoelje \nLodging Options\n(All rooms include 2 nights and 5 meals) \n\nCabins (bathroom in the cabin\, 8 to a cabin) – $235\nLodge (hotel-like with en suite bathroom and two twin beds) – $295 (Rooms now full.)\nLodge (hotel-like with en suite bathroom\, one queen bed) – $375 (1 Room left.)\nSaturday Only (2 meals\, NO overnight stay) – $80\n\nNotes \n\nA week before the retreat\, you will receive an email with details like directions to camp\, what to bring\, etc.\nIf you would like to contribute to the scholarship fund\, that option will be available during registration.\nIf you need a scholarship\, please email womensministry@confluence.church.
URL:https://confluence.church/event/womens-retreat/
LOCATION:Del Oro Camp and Conference Center\, 20864 Rector Rd\, Nevada City\, CA\, 95959\, United States
CATEGORIES:Women
ATTACH;FMTTYPE=image/png:https://media.confluence.church/2025/08/30183642/Womens-Retreat-web.png
END:VEVENT
BEGIN:VEVENT
DTSTART;VALUE=DATE:20250228
DTEND;VALUE=DATE:20250303
DTSTAMP:20260421T071043
CREATED:20250116T194017Z
LAST-MODIFIED:20250116T194017Z
UID:10000196-1740700800-1740959999@confluence.church
SUMMARY:Men's Retreat\, 2025
DESCRIPTION:Guys\, sign up now for our upcoming Men’s Retreat. We’ll join Crossroads from February 28 to March 2 at Del Oro Camp & Conference Center in Nevada City for a powerful weekend seeking God\, getting to know others\, and resetting our hearts. The last day to sign up is February 16\, so sign up now and reserve your spot. \nAccommodation options (cost includes all meals): \n$175: Bunkhouse Cabins (feels like summer camp when you were a kid!)\n$225: Cottages (shared common area cottage with 2-3 persons to a bedroom)\n$265: Deluxe Lodge – Double Occupancy (a room with two twin beds and private bathroom)\n$300: Deluxe Lodge – Single Occupancy (a room with one queen bed and private bathroom) \nRefund Policy\nIf you made a partial payment\, the final payment is due February 16. Registration fees (aside from the $50 non-refundable deposit) will be refunded for cancellations before February 16. \nDue to our financial commitment to the camp\, cancellations after February 16 still require payment of full registration fees unless another man is available/willing to take your place. Thank you for your understanding!
URL:https://confluence.church/event/mens-retreat-2025/
LOCATION:Del Oro Camp and Conference Center\, 20864 Rector Rd\, Nevada City\, CA\, 95959\, United States
CATEGORIES:Men
ATTACH;FMTTYPE=image/png:https://media.confluence.church/2025/01/30183115/Mens-Retreat-2025-web.png
END:VEVENT
BEGIN:VEVENT
DTSTART;VALUE=DATE:20240315
DTEND;VALUE=DATE:20240318
DTSTAMP:20260421T071043
CREATED:20240124T225537Z
LAST-MODIFIED:20240124T225537Z
UID:10000133-1710460800-1710719999@confluence.church
SUMMARY:Youth Winter Camp
DESCRIPTION:Save the date for our upcoming youth winter camp! Our Jr. High and High School students will be spending the weekend at Del Oro Camp in Nevada City\, March 15-17th. The cost is $285 per student. Registration will open on January 28th.
URL:https://confluence.church/event/youth-winter-camp/
LOCATION:Del Oro Camp and Conference Center\, 20864 Rector Rd\, Nevada City\, CA\, 95959\, United States
CATEGORIES:Youth
ATTACH;FMTTYPE=image/png:https://media.confluence.church/2024/01/30182303/Youth-Winter-Camp-2024.png
END:VEVENT
BEGIN:VEVENT
DTSTART;VALUE=DATE:20240301
DTEND;VALUE=DATE:20240304
DTSTAMP:20260421T071043
CREATED:20240124T225142Z
LAST-MODIFIED:20240124T225142Z
UID:10000132-1709251200-1709510399@confluence.church
SUMMARY:Men's Retreat
DESCRIPTION:Join us for this year’s Men’s Retreat\, March 1-3. We will be at our new retreat location\, Del Oro Camp & Conference Center in Nevada City. The cost is $175-$300\, depending on your chosen accommodation. Head to the registration to learn more and sign up!
URL:https://confluence.church/event/mens-retreat-2/
LOCATION:Del Oro Camp and Conference Center\, 20864 Rector Rd\, Nevada City\, CA\, 95959\, United States
CATEGORIES:Men
ATTACH;FMTTYPE=image/png:https://media.confluence.church/2024/01/30182252/Mens-Retreat-2024.png
END:VEVENT
END:VCALENDAR